BEGIN:VCALENDAR
VERSION:2.0
PRODID:-//wp-events-plugin.com//7.2.3.1//EN
TZID:America/New_York
X-WR-TIMEZONE:America/New_York
BEGIN:VEVENT
UID:177@cosiscifest.org
DTSTART;TZID=America/New_York:20260430T180000
DTEND;TZID=America/New_York:20260430T193000
DTSTAMP:20260324T210428Z
URL:https://cosiscifest.org/events/how-to-make-a-bagel/
SUMMARY:How to Make a Bagel
DESCRIPTION:Join us at Fox's Bagels for a bagel-filled evening involving a 
 facility tour on the process that goes into making a bagel!
ATTACH;FMTTYPE=image/jpeg:https://cosiscifest.org/wp-content/uploads/2026/
 03/how-to-make-a-bagel_EDIT.jpg
CATEGORIES:Be a Scientist
LOCATION:Fox’s Bagel & Deli\, 3012 E Broad St\, Columbus\, Ohio\, 43209\,
  United States
GEO:39.971759;-82.920616
X-APPLE-STRUCTURED-LOCATION;VALUE=URI;X-ADDRESS=3012 E Broad St\, Columbus\
 , Ohio\, 43209\, United States;X-APPLE-RADIUS=100;X-TITLE=Fox’s Bagel & 
 Deli:geo:39.971759,-82.920616
END:VEVENT
BEGIN:VTIMEZONE
TZID:America/New_York
X-LIC-LOCATION:America/New_York
BEGIN:DAYLIGHT
DTSTART:20260308T030000
TZOFFSETFROM:-0500
TZOFFSETTO:-0400
TZNAME:EDT
END:DAYLIGHT
END:VTIMEZONE
END:VCALENDAR