BEGIN:VCALENDAR
VERSION:2.0
PRODID:-//wp-events-plugin.com//7.2.3.1//EN
TZID:America/New_York
X-WR-TIMEZONE:America/New_York
BEGIN:VEVENT
UID:182@cosiscifest.org
DTSTART;TZID=America/New_York:20260501T090000
DTEND;TZID=America/New_York:20260501T120000
DTSTAMP:20260316T120454Z
URL:https://cosiscifest.org/events/how-do-you-s-t-e-a-m/
SUMMARY:How Do You S.T.E.A.M.?
DESCRIPTION:The floor is packed with exhibitors from local clubs to state o
 rganizations\, all ready to inspire. Every station is interactive—you wo
 n't just watch science\, you'll do it! It's a day of discovery and communi
 ty fun that proves STEAM is for everyone! 
ATTACH;FMTTYPE=image/jpeg:https://cosiscifest.org/wp-content/uploads/2026/
 03/how_do_you_STEAM_london_EDIT.jpg
CATEGORIES:Career Lab
LOCATION:London City Hall Public Auditorium\, 20 S Walnut St\, London\, Ohi
 o\, 43140\, United States
GEO:39.887322;-83.445747
X-APPLE-STRUCTURED-LOCATION;VALUE=URI;X-ADDRESS=20 S Walnut St\, London\, O
 hio\, 43140\, United States;X-APPLE-RADIUS=100;X-TITLE=London City Hall Pu
 blic Auditorium:geo:39.887322,-83.445747
END:VEVENT
BEGIN:VTIMEZONE
TZID:America/New_York
X-LIC-LOCATION:America/New_York
BEGIN:DAYLIGHT
DTSTART:20260308T030000
TZOFFSETFROM:-0500
TZOFFSETTO:-0400
TZNAME:EDT
END:DAYLIGHT
END:VTIMEZONE
END:VCALENDAR