BEGIN:VCALENDAR
VERSION:2.0
PRODID:-//wp-events-plugin.com//7.2.3.1//EN
TZID:America/New_York
X-WR-TIMEZONE:America/New_York
BEGIN:VEVENT
UID:111@cosiscifest.org
DTSTART;TZID=America/New_York:20260501T170000
DTEND;TZID=America/New_York:20260501T200000
DTSTAMP:20260331T203826Z
URL:https://cosiscifest.org/events/house-of-sport-science-fest/
SUMMARY:House of Sport Science Fest
DESCRIPTION:Bring the whole family for an evening of hands‑on discovery a
 t the House of Sport Science Fest! Explore the exciting connection between
  sports\, movement\, technology\, and everyday science through STEAM stati
 ons and interactive activities.
ATTACH;FMTTYPE=image/jpeg:https://cosiscifest.org/wp-content/uploads/2026/
 03/house_of_sport_science_fest_EDIT.jpg
CATEGORIES:Be a Scientist
LOCATION:DICK'S House of Sport\, 1510 Polaris Pkwy\, Columbus\, OH\, 43240\
 , United States
GEO:40.146963;-82.980061
X-APPLE-STRUCTURED-LOCATION;VALUE=URI;X-ADDRESS=1510 Polaris Pkwy\, Columbu
 s\, OH\, 43240\, United States;X-APPLE-RADIUS=100;X-TITLE=DICK'S House of 
 Sport:geo:40.146963,-82.980061
END:VEVENT
BEGIN:VTIMEZONE
TZID:America/New_York
X-LIC-LOCATION:America/New_York
BEGIN:DAYLIGHT
DTSTART:20260308T030000
TZOFFSETFROM:-0500
TZOFFSETTO:-0400
TZNAME:EDT
END:DAYLIGHT
END:VTIMEZONE
END:VCALENDAR