BEGIN:VCALENDAR
VERSION:2.0
PRODID:-//wp-events-plugin.com//7.2.3.1//EN
TZID:America/New_York
X-WR-TIMEZONE:America/New_York
BEGIN:VEVENT
UID:129@cosiscifest.org
DTSTART;TZID=America/New_York:20260430T183000
DTEND;TZID=America/New_York:20260430T203000
DTSTAMP:20260414T153152Z
URL:https://cosiscifest.org/events/halo-wind-tunnel-tour-2026/
SUMMARY:HALO Wind Tunnel Tour - Blown Away by Science
DESCRIPTION:Registration for this event is full!\n\nIs it possible to go 70
  MPH while standing still? Yes! It is in a wind tunnel. Join Honda at the 
 COSI Community STEAM Event that will blow you away! Discover the science b
 ehind racing and the tools engineers use to improve aerodynamic performanc
 e.
ATTACH;FMTTYPE=image/jpeg:https://cosiscifest.org/wp-content/uploads/2026/
 02/Honda_EDIT.jpg
CATEGORIES:Be a Scientist
LOCATION:Transportation Research Center Inc\, 10820 OH-347\, East Liberty\,
  Ohio\, 43319\, United States
GEO:40.325614;-83.579849
X-APPLE-STRUCTURED-LOCATION;VALUE=URI;X-ADDRESS=10820 OH-347\, East Liberty
 \, Ohio\, 43319\, United States;X-APPLE-RADIUS=100;X-TITLE=Transportation 
 Research Center Inc:geo:40.325614,-83.579849
END:VEVENT
BEGIN:VTIMEZONE
TZID:America/New_York
X-LIC-LOCATION:America/New_York
BEGIN:DAYLIGHT
DTSTART:20260308T030000
TZOFFSETFROM:-0500
TZOFFSETTO:-0400
TZNAME:EDT
END:DAYLIGHT
END:VTIMEZONE
END:VCALENDAR