BEGIN:VCALENDAR
VERSION:2.0
PRODID:-//wp-events-plugin.com//7.2.3.1//EN
TZID:America/New_York
X-WR-TIMEZONE:America/New_York
BEGIN:VEVENT
UID:123@cosiscifest.org
DTSTART;TZID=America/New_York:20260429T180000
DTEND;TZID=America/New_York:20260429T193000
DTSTAMP:20260310T194947Z
URL:https://cosiscifest.org/events/fantastic-fungi-2026/
SUMMARY:Fantastic Fungi at Blacklick Woods
DESCRIPTION:Be a scientist! Learn to use iNaturalist to record scientific o
 bservations and then set out on a 1.25-mile hike to observe\, identify and
  record mushrooms and other fungi around Blacklick Woods.
ATTACH;FMTTYPE=image/jpeg:https://cosiscifest.org/wp-content/uploads/2026/
 02/fantastic_fungi_EDIT.jpg
CATEGORIES:Be a Scientist,BioBlitz,Outdoor Exploration
LOCATION:Blacklick Woods Nature Center\, 6975 E Livingston Ave\, Reynoldsbu
 rg\, Ohio\, 43068\, United States
GEO:39.943795;-82.811707
X-APPLE-STRUCTURED-LOCATION;VALUE=URI;X-ADDRESS=6975 E Livingston Ave\, Rey
 noldsburg\, Ohio\, 43068\, United States;X-APPLE-RADIUS=100;X-TITLE=Blackl
 ick Woods Nature Center:geo:39.943795,-82.811707
END:VEVENT
BEGIN:VTIMEZONE
TZID:America/New_York
X-LIC-LOCATION:America/New_York
BEGIN:DAYLIGHT
DTSTART:20260308T030000
TZOFFSETFROM:-0500
TZOFFSETTO:-0400
TZNAME:EDT
END:DAYLIGHT
END:VTIMEZONE
END:VCALENDAR