BEGIN:VCALENDAR
VERSION:2.0
PRODID:-//wp-events-plugin.com//7.2.3.1//EN
TZID:America/New_York
X-WR-TIMEZONE:America/New_York
BEGIN:VEVENT
UID:109@cosiscifest.org
DTSTART;TZID=America/New_York:20260501T180000
DTEND;TZID=America/New_York:20260501T193000
DTSTAMP:20260310T193930Z
URL:https://cosiscifest.org/events/eggsperiment-community-drop/
SUMMARY:Eggsperiment Community Drop
DESCRIPTION:Hatch a plan with your family to “egg”ineer a creative cont
 raption designed to protect an egg dropped from the Norwich Township Fire 
 Department’s ladder truck.
ATTACH;FMTTYPE=image/jpeg:https://cosiscifest.org/wp-content/uploads/2026/
 02/eggsperiment_egg_drop_hilliard_EDIT.jpg
CATEGORIES:Science Block Party
LOCATION:Hilliard Family Aquatic Center\, 3850 Veterans Memorial Dr\, Hilli
 ard\, Ohio\, 43026\, United States
GEO:40.028558;-83.17005
X-APPLE-STRUCTURED-LOCATION;VALUE=URI;X-ADDRESS=3850 Veterans Memorial Dr\,
  Hilliard\, Ohio\, 43026\, United States;X-APPLE-RADIUS=100;X-TITLE=Hillia
 rd Family Aquatic Center:geo:40.028558,-83.17005
END:VEVENT
BEGIN:VTIMEZONE
TZID:America/New_York
X-LIC-LOCATION:America/New_York
BEGIN:DAYLIGHT
DTSTART:20260308T030000
TZOFFSETFROM:-0500
TZOFFSETTO:-0400
TZNAME:EDT
END:DAYLIGHT
END:VTIMEZONE
END:VCALENDAR