BEGIN:VCALENDAR
VERSION:2.0
PRODID:-//wp-events-plugin.com//7.2.3.1//EN
TZID:America/New_York
X-WR-TIMEZONE:America/New_York
BEGIN:VEVENT
UID:147@cosiscifest.org
DTSTART;TZID=America/New_York:20260430T093000
DTEND;TZID=America/New_York:20260430T110000
DTSTAMP:20260316T120427Z
URL:https://cosiscifest.org/events/eco-explorers-a-preschool-youth-family-
 steam-adventure/
SUMMARY:Eco Explorers: A Preschool\, Youth & Family STEAM Adventure
DESCRIPTION:Explore plant science\, composting\, Verma culture\, recycling\
 , and sustainability through interactive experiments\, creative reuse proj
 ects\, and a tour of the FACCES garden and greenhouse. Enjoy music\, healt
 hy snacks\, and engaging activities while learning simple ways to care for
  the earth and reduce waste at home.
ATTACH;FMTTYPE=image/jpeg:https://cosiscifest.org/wp-content/uploads/2026/
 03/eco_explorers_preschool_youth_family_STEAM_adventure_EDIT.jpg
CATEGORIES:Outdoor Exploration
LOCATION:FACCES Starting Point Family Center\, 2515 Lockbourne Rd\, Columbu
 s\, Ohio\, 43207\, United States
GEO:39.913899;-82.967162
X-APPLE-STRUCTURED-LOCATION;VALUE=URI;X-ADDRESS=2515 Lockbourne Rd\, Columb
 us\, Ohio\, 43207\, United States;X-APPLE-RADIUS=100;X-TITLE=FACCES Starti
 ng Point Family Center:geo:39.913899,-82.967162
END:VEVENT
BEGIN:VTIMEZONE
TZID:America/New_York
X-LIC-LOCATION:America/New_York
BEGIN:DAYLIGHT
DTSTART:20260308T030000
TZOFFSETFROM:-0500
TZOFFSETTO:-0400
TZNAME:EDT
END:DAYLIGHT
END:VTIMEZONE
END:VCALENDAR