BEGIN:VCALENDAR
VERSION:2.0
PRODID:-//wp-events-plugin.com//7.2.3.1//EN
TZID:America/New_York
X-WR-TIMEZONE:America/New_York
BEGIN:VEVENT
UID:183@cosiscifest.org
DTSTART;TZID=America/New_York:20260430T100000
DTEND;TZID=America/New_York:20260430T140000
DTSTAMP:20260316T192402Z
URL:https://cosiscifest.org/events/discovering-flight-with-the-national-av
 iation-hall-of-fame/
SUMMARY:Discovering Flight with the National Aviation Hall of Fame
DESCRIPTION:Inside the Joe Clark Innovation Lab\, visitors of all ages can 
 dive into hands-on STEM challenges\, build and test aviation designs\, and
  discover how innovators turned big ideas into reality.
ATTACH;FMTTYPE=image/jpeg:https://cosiscifest.org/wp-content/uploads/2026/
 03/discovering_flight_EDIT.jpg
CATEGORIES:Be a Scientist
LOCATION:National Aviation Hall Of Fame\, 1100 Spaatz St\, Dayton\, Ohio\, 
 45433\, United States
GEO:39.781251;-84.110465
X-APPLE-STRUCTURED-LOCATION;VALUE=URI;X-ADDRESS=1100 Spaatz St\, Dayton\, O
 hio\, 45433\, United States;X-APPLE-RADIUS=100;X-TITLE=National Aviation H
 all Of Fame:geo:39.781251,-84.110465
END:VEVENT
BEGIN:VTIMEZONE
TZID:America/New_York
X-LIC-LOCATION:America/New_York
BEGIN:DAYLIGHT
DTSTART:20260308T030000
TZOFFSETFROM:-0500
TZOFFSETTO:-0400
TZNAME:EDT
END:DAYLIGHT
END:VTIMEZONE
END:VCALENDAR