BEGIN:VCALENDAR
VERSION:2.0
PRODID:-//wp-events-plugin.com//7.2.3.1//EN
TZID:America/New_York
X-WR-TIMEZONE:America/New_York
BEGIN:VEVENT
UID:146@cosiscifest.org
DTSTART;TZID=America/New_York:20260501T160000
DTEND;TZID=America/New_York:20260501T190000
DTSTAMP:20260316T120317Z
URL:https://cosiscifest.org/events/decode-color-with-cmyk/
SUMMARY:Decode Color With CMYK
DESCRIPTION:Decode color during a hands-on silkscreen printmaking experimen
 t! Kids and adults will investigate the mystery of “CMYK” and take hom
 e colorful prints!
ATTACH;FMTTYPE=image/jpeg:https://cosiscifest.org/wp-content/uploads/2026/
 03/decode_color_with_CMYK_EDIT.jpg
CATEGORIES:Creative Sparks
LOCATION:Phoenix Rising Printmaking\, 243 N 5th Street #140\, Columbus\, Oh
 io\, 43215\, United States
GEO:39.967934;-82.99601
X-APPLE-STRUCTURED-LOCATION;VALUE=URI;X-ADDRESS=243 N 5th Street #140\, Col
 umbus\, Ohio\, 43215\, United States;X-APPLE-RADIUS=100;X-TITLE=Phoenix Ri
 sing Printmaking:geo:39.967934,-82.99601
END:VEVENT
BEGIN:VTIMEZONE
TZID:America/New_York
X-LIC-LOCATION:America/New_York
BEGIN:DAYLIGHT
DTSTART:20260308T030000
TZOFFSETFROM:-0500
TZOFFSETTO:-0400
TZNAME:EDT
END:DAYLIGHT
END:VTIMEZONE
END:VCALENDAR