BEGIN:VCALENDAR
VERSION:2.0
PRODID:-//wp-events-plugin.com//7.2.3.1//EN
TZID:America/New_York
X-WR-TIMEZONE:America/New_York
BEGIN:VEVENT
UID:140@cosiscifest.org
DTSTART;TZID=America/New_York:20260501T190000
DTEND;TZID=America/New_York:20260501T210000
DTSTAMP:20260330T180428Z
URL:https://cosiscifest.org/events/dawes-at-dusk-the-science-of-propagatio
 n/
SUMMARY:Dawes at Dusk: The Science of Propagation
DESCRIPTION:Join us for an after-hours stroll through our gardens with a ho
 rticulture expert. Learn how to expand your plant collection for free\, an
 d the science that makes plant propagation unique.
ATTACH;FMTTYPE=image/jpeg:https://cosiscifest.org/wp-content/uploads/2026/
 03/dawes_at_dusk_science_of_propagation_EDIT.jpg
CATEGORIES:Adult Science Series
LOCATION:The Dawes Arboretum\, 7770 Jacksontown Rd\, Newark\, Ohio\, 43056\
 , United States
GEO:39.98246;-82.414991
X-APPLE-STRUCTURED-LOCATION;VALUE=URI;X-ADDRESS=7770 Jacksontown Rd\, Newar
 k\, Ohio\, 43056\, United States;X-APPLE-RADIUS=100;X-TITLE=The Dawes Arbo
 retum:geo:39.98246,-82.414991
END:VEVENT
BEGIN:VTIMEZONE
TZID:America/New_York
X-LIC-LOCATION:America/New_York
BEGIN:DAYLIGHT
DTSTART:20260308T030000
TZOFFSETFROM:-0500
TZOFFSETTO:-0400
TZNAME:EDT
END:DAYLIGHT
END:VTIMEZONE
END:VCALENDAR