BEGIN:VCALENDAR
VERSION:2.0
PRODID:-//wp-events-plugin.com//7.2.3.1//EN
TZID:America/New_York
X-WR-TIMEZONE:America/New_York
BEGIN:VEVENT
UID:145@cosiscifest.org
DTSTART;TZID=America/New_York:20260501T110000
DTEND;TZID=America/New_York:20260501T130000
DTSTAMP:20260331T145804Z
URL:https://cosiscifest.org/events/darby-diversity/
SUMMARY:Darby Diversity
DESCRIPTION:Help us catch and find as many critters as we can in the creek!
  Explore how many types of fish\, mussels and insects live in our waters. 
 Special guest Brian Zimmerman and team will assist in collecting fish\, ma
 lacologists will show off mussels and there will be many teams helping col
 lect in the water.
ATTACH;FMTTYPE=image/jpeg:https://cosiscifest.org/wp-content/uploads/2026/
 03/darby_diversity_EDIT.jpg
CATEGORIES:Outdoor Exploration
LOCATION:Battelle Darby Creek - Cedar Ridge Lodge\, 1775 Darby Creek Dr\, G
 alloway\, Ohio\, 43119\, United States
GEO:39.902778;-83.211993
X-APPLE-STRUCTURED-LOCATION;VALUE=URI;X-ADDRESS=1775 Darby Creek Dr\, Gallo
 way\, Ohio\, 43119\, United States;X-APPLE-RADIUS=100;X-TITLE=Battelle Dar
 by Creek - Cedar Ridge Lodge:geo:39.902778,-83.211993
END:VEVENT
BEGIN:VTIMEZONE
TZID:America/New_York
X-LIC-LOCATION:America/New_York
BEGIN:DAYLIGHT
DTSTART:20260308T030000
TZOFFSETFROM:-0500
TZOFFSETTO:-0400
TZNAME:EDT
END:DAYLIGHT
END:VTIMEZONE
END:VCALENDAR