BEGIN:VCALENDAR
VERSION:2.0
PRODID:-//wp-events-plugin.com//7.2.3.1//EN
TZID:America/New_York
X-WR-TIMEZONE:America/New_York
BEGIN:VEVENT
UID:121@cosiscifest.org
DTSTART;TZID=America/New_York:20260501T103000
DTEND;TZID=America/New_York:20260501T110000
DTSTAMP:20260310T194916Z
URL:https://cosiscifest.org/events/curious-creatures/
SUMMARY:Curious Creatures
DESCRIPTION:Join us for a special edition of Curious Kids - Curious Creatur
 es! In partnership with COSI's Science Festival\, explore the outdoors in 
 the LeFevre Courtyard and learn about the creatures who call it home. Take
  a closer look at these critters and their habitats with fun activities an
 d cool experiments! 
ATTACH;FMTTYPE=image/jpeg:https://cosiscifest.org/wp-content/uploads/2026/
 02/curious_creatures_the_works_EDIT.jpg
CATEGORIES:Outdoor Exploration
LOCATION:The Works: Ohio Center for History\, Art & Technology\, 55 S 1st S
 t\, Newark\, Ohio\, 43055\, United States
GEO:40.05671;-82.398737
X-APPLE-STRUCTURED-LOCATION;VALUE=URI;X-ADDRESS=55 S 1st St\, Newark\, Ohio
 \, 43055\, United States;X-APPLE-RADIUS=100;X-TITLE=The Works: Ohio Center
  for History\, Art & Technology:geo:40.05671,-82.398737
END:VEVENT
BEGIN:VTIMEZONE
TZID:America/New_York
X-LIC-LOCATION:America/New_York
BEGIN:DAYLIGHT
DTSTART:20260308T030000
TZOFFSETFROM:-0500
TZOFFSETTO:-0400
TZNAME:EDT
END:DAYLIGHT
END:VTIMEZONE
END:VCALENDAR