BEGIN:VCALENDAR
VERSION:2.0
PRODID:-//wp-events-plugin.com//7.2.3.1//EN
TZID:America/New_York
X-WR-TIMEZONE:America/New_York
BEGIN:VEVENT
UID:201@cosiscifest.org
DTSTART;TZID=America/New_York:20260501T190000
DTEND;TZID=America/New_York:20260501T203000
DTSTAMP:20260330T174044Z
URL:https://cosiscifest.org/events/confidence-and-your-brain-confidence-to
 -change-the-world/
SUMMARY:Confidence and Your Brain: Confidence to Change the World!
DESCRIPTION:Dr. Julie (a research scientist) and Lama Kathy (a meditation i
 nstructor) will discuss the science of how the brain’s reward system get
 s mixed up\, leading to common difficulties. 
ATTACH;FMTTYPE=image/jpeg:https://cosiscifest.org/wp-content/uploads/2026/
 03/confidence_and_your_brain_EDIT.jpg
CATEGORIES:Adult Science Series
LOCATION:Columbus Karma Thegsum Chöling\, 645 W Rich St\, Columbus\, Ohio\
 , 43215\, United States
GEO:39.955288;-83.017102
X-APPLE-STRUCTURED-LOCATION;VALUE=URI;X-ADDRESS=645 W Rich St\, Columbus\, 
 Ohio\, 43215\, United States;X-APPLE-RADIUS=100;X-TITLE=Columbus Karma The
 gsum Chöling:geo:39.955288,-83.017102
END:VEVENT
BEGIN:VTIMEZONE
TZID:America/New_York
X-LIC-LOCATION:America/New_York
BEGIN:DAYLIGHT
DTSTART:20260308T030000
TZOFFSETFROM:-0500
TZOFFSETTO:-0400
TZNAME:EDT
END:DAYLIGHT
END:VTIMEZONE
END:VCALENDAR