BEGIN:VCALENDAR
VERSION:2.0
PRODID:-//wp-events-plugin.com//7.2.3.1//EN
TZID:America/New_York
X-WR-TIMEZONE:America/New_York
BEGIN:VEVENT
UID:214@cosiscifest.org
DTSTART;TZID=America/New_York:20260429T000000
DTEND;TZID=America/New_York:20260501T000000
DTSTAMP:20260422T214323Z
URL:https://cosiscifest.org/events/columbus-recreation-and-parks-virtual-b
 ioblitz/
SUMMARY:Columbus Recreation and Parks Virtual BioBlitz
DESCRIPTION:Post the iNaturalist screenshot of your observation on social m
 edia and tag @Columbus Recreation and Parks and you will be entered into a
  drawing to win fun prizes!
ATTACH;FMTTYPE=image/jpeg:https://cosiscifest.org/wp-content/uploads/2026/
 04/CRPD_virtual_bioblitz_EDIT.jpg
CATEGORIES:Be a Scientist,BioBlitz,Creative Sparks,Outdoor Exploration
END:VEVENT
BEGIN:VTIMEZONE
TZID:America/New_York
X-LIC-LOCATION:America/New_York
BEGIN:DAYLIGHT
DTSTART:20260308T030000
TZOFFSETFROM:-0500
TZOFFSETTO:-0400
TZNAME:EDT
END:DAYLIGHT
END:VTIMEZONE
END:VCALENDAR