BEGIN:VCALENDAR
VERSION:2.0
PRODID:-//wp-events-plugin.com//7.2.3.1//EN
TZID:America/New_York
X-WR-TIMEZONE:America/New_York
BEGIN:VEVENT
UID:139@cosiscifest.org
DTSTART;TZID=America/New_York:20260429T173000
DTEND;TZID=America/New_York:20260429T193000
DTSTAMP:20260310T193703Z
URL:https://cosiscifest.org/events/blast-into-summer-science-block-party/
SUMMARY:Blast into Summer Science Block Party
DESCRIPTION:Kick off summer by exploring the science of movement and the sc
 ience of play—right in your own backyard. Families are invited to dive i
 nto hands-on science demonstrations and interactive activities that bring 
 everyday science to life.
ATTACH;FMTTYPE=image/jpeg:https://cosiscifest.org/wp-content/uploads/2024/
 03/CSF_generic_comm-event_image.jpg
CATEGORIES:Creative Sparks,Outdoor Exploration,Science Block Party
LOCATION:The Park at Beulah\, 3700 Glacial Lane\, Grove City\, Ohio\, 43123
 \, United States
GEO:39.889197;-83.103929
X-APPLE-STRUCTURED-LOCATION;VALUE=URI;X-ADDRESS=3700 Glacial Lane\, Grove C
 ity\, Ohio\, 43123\, United States;X-APPLE-RADIUS=100;X-TITLE=The Park at 
 Beulah:geo:39.889197,-83.103929
END:VEVENT
BEGIN:VTIMEZONE
TZID:America/New_York
X-LIC-LOCATION:America/New_York
BEGIN:DAYLIGHT
DTSTART:20260308T030000
TZOFFSETFROM:-0500
TZOFFSETTO:-0400
TZNAME:EDT
END:DAYLIGHT
END:VTIMEZONE
END:VCALENDAR