BEGIN:VCALENDAR
VERSION:2.0
PRODID:-//wp-events-plugin.com//7.2.3.1//EN
TZID:America/New_York
X-WR-TIMEZONE:America/New_York
BEGIN:VEVENT
UID:133@cosiscifest.org
DTSTART;TZID=America/New_York:20260430T153000
DTEND;TZID=America/New_York:20260430T163000
DTSTAMP:20260316T120144Z
URL:https://cosiscifest.org/events/birds-of-prey/
SUMMARY:Birds of Prey: Live Animal Meet n Greet
DESCRIPTION:Come see Ohio's fiercest predators of the sky live and in perso
 n! Ohio Nature Education is bringing their animal ambassadors out for a sp
 ecial presentation all about Birds of Prey. Join us after school in John B
 ishop Park and experience rescued hawks and owls up close!
ATTACH;FMTTYPE=image/jpeg:https://cosiscifest.org/wp-content/uploads/2026/
 02/birds_of_prey_EDIT.jpg
CATEGORIES:Outdoor Exploration
LOCATION:John Bishop Park\, 4815 Etna Rd\, Whitehall\, Ohio\, 43213\, Unite
 d States
GEO:39.96204;-82.870619
X-APPLE-STRUCTURED-LOCATION;VALUE=URI;X-ADDRESS=4815 Etna Rd\, Whitehall\, 
 Ohio\, 43213\, United States;X-APPLE-RADIUS=100;X-TITLE=John Bishop Park:g
 eo:39.96204,-82.870619
END:VEVENT
BEGIN:VTIMEZONE
TZID:America/New_York
X-LIC-LOCATION:America/New_York
BEGIN:DAYLIGHT
DTSTART:20260308T030000
TZOFFSETFROM:-0500
TZOFFSETTO:-0400
TZNAME:EDT
END:DAYLIGHT
END:VTIMEZONE
END:VCALENDAR