BEGIN:VCALENDAR
VERSION:2.0
PRODID:-//wp-events-plugin.com//7.2.3.1//EN
TZID:America/New_York
X-WR-TIMEZONE:America/New_York
BEGIN:VEVENT
UID:138@cosiscifest.org
DTSTART;TZID=America/New_York:20260501T180000
DTEND;TZID=America/New_York:20260501T200000
DTSTAMP:20260316T120122Z
URL:https://cosiscifest.org/events/birds-brews-and-burgers-2026/
SUMMARY:Birds\, Brews\, and Burgers
DESCRIPTION:Enjoy a bird outing through the park with our educators\, and l
 earn to use the Merlin Bird ID app to explore the world of birds! Afterwar
 ds\, enjoy a beer tasting\, sampling an assortment of Nocterra Brewing Com
 pany beers and a special presentation from featured speaker\, Brad Imhoff!
  Finish the night with a chance to win prizes through Bird Trivia!
ATTACH;FMTTYPE=image/jpeg:https://cosiscifest.org/wp-content/uploads/2026/
 03/birds_brews_burgers_EDIT.jpg
CATEGORIES:Adult Science Series
LOCATION:Grange Insurance Audubon Center\, 505 W Whittier Street\, Columbus
 \, Ohio\, 43215\, United States
GEO:39.946418;-83.009693
X-APPLE-STRUCTURED-LOCATION;VALUE=URI;X-ADDRESS=505 W Whittier Street\, Col
 umbus\, Ohio\, 43215\, United States;X-APPLE-RADIUS=100;X-TITLE=Grange Ins
 urance Audubon Center:geo:39.946418,-83.009693
END:VEVENT
BEGIN:VTIMEZONE
TZID:America/New_York
X-LIC-LOCATION:America/New_York
BEGIN:DAYLIGHT
DTSTART:20260308T030000
TZOFFSETFROM:-0500
TZOFFSETTO:-0400
TZNAME:EDT
END:DAYLIGHT
END:VTIMEZONE
END:VCALENDAR