BEGIN:VCALENDAR
VERSION:2.0
PRODID:-//wp-events-plugin.com//7.2.3.1//EN
TZID:America/New_York
X-WR-TIMEZONE:America/New_York
BEGIN:VEVENT
UID:131@cosiscifest.org
DTSTART;TZID=America/New_York:20260429T200000
DTEND;TZID=America/New_York:20260429T223000
DTSTAMP:20260310T193553Z
URL:https://cosiscifest.org/events/atoms-to-galaxies-2026/
SUMMARY:Atoms to Galaxies 3: Poetry (Open Mic) for Unveiling the wonders of
  science
DESCRIPTION:Embark on a unique journey where poetry meets science at The Co
 lumbus Poetry Cauldron’s special event! Nestled in the heart of creativi
 ty at Kafe Kerouac\, we’re hosting an extraordinary Science-Themed Poetr
 y Open Mic Night.
ATTACH;FMTTYPE=image/jpeg:https://cosiscifest.org/wp-content/uploads/2024/
 03/CSF_generic_comm-event_image.jpg
CATEGORIES:Creative Sparks
LOCATION:Kafe Kerouac\, 2250 N High St\,  Columbus\, Ohio\, 43201\, United 
 States
GEO:40.008191;-83.009438
X-APPLE-STRUCTURED-LOCATION;VALUE=URI;X-ADDRESS=2250 N High St\,  Columbus\
 , Ohio\, 43201\, United States;X-APPLE-RADIUS=100;X-TITLE=Kafe Kerouac:geo
 :40.008191,-83.009438
END:VEVENT
BEGIN:VTIMEZONE
TZID:America/New_York
X-LIC-LOCATION:America/New_York
BEGIN:DAYLIGHT
DTSTART:20260308T030000
TZOFFSETFROM:-0500
TZOFFSETTO:-0400
TZNAME:EDT
END:DAYLIGHT
END:VTIMEZONE
END:VCALENDAR