BEGIN:VCALENDAR
VERSION:2.0
PRODID:-//wp-events-plugin.com//7.2.3.1//EN
TZID:America/New_York
X-WR-TIMEZONE:America/New_York
BEGIN:VEVENT
UID:144@cosiscifest.org
DTSTART;TZID=America/New_York:20260429T160000
DTEND;TZID=America/New_York:20260429T180000
DTSTAMP:20260316T120052Z
URL:https://cosiscifest.org/events/art-and-the-body/
SUMMARY:Art and the Body
DESCRIPTION:Have you ever wondered why Art makes you feel happy? Or relaxed
 ? Or energetic? Come explore three art mediums and reflect on art’s effe
 ct on the body with We Amplify Voices. All ages are invited to experience 
 our mission of healing through creative expression in action! 
ATTACH;FMTTYPE=image/jpeg:https://cosiscifest.org/wp-content/uploads/2026/
 03/art_and_the_body_EDIT.jpg
CATEGORIES:Creative Sparks
LOCATION:We Amplify Voices\, 1327 Sullivant Ave\, Columbus\, Ohio\,  43223\
 , United States
GEO:39.950569;-83.034578
X-APPLE-STRUCTURED-LOCATION;VALUE=URI;X-ADDRESS=1327 Sullivant Ave\, Columb
 us\, Ohio\,  43223\, United States;X-APPLE-RADIUS=100;X-TITLE=We Amplify V
 oices:geo:39.950569,-83.034578
END:VEVENT
BEGIN:VTIMEZONE
TZID:America/New_York
X-LIC-LOCATION:America/New_York
BEGIN:DAYLIGHT
DTSTART:20260308T030000
TZOFFSETFROM:-0500
TZOFFSETTO:-0400
TZNAME:EDT
END:DAYLIGHT
END:VTIMEZONE
END:VCALENDAR