BEGIN:VCALENDAR
VERSION:2.0
PRODID:-//wp-events-plugin.com//7.2.3.1//EN
TZID:America/New_York
X-WR-TIMEZONE:America/New_York
BEGIN:VEVENT
UID:212@cosiscifest.org
DTSTART;TZID=America/New_York:20260501T163000
DTEND;TZID=America/New_York:20260501T180000
DTSTAMP:20260422T214221Z
URL:https://cosiscifest.org/events/andelyns-dna-discovery-zone/
SUMMARY:Andelyn's DNA Discovery Zone
DESCRIPTION:Join the scientists from Andelyn Biosciences for an adventure i
 nto the world of genes! Kids will trade their sneakers for lab gear and di
 ve deep into the "Blueprint of Life."
ATTACH;FMTTYPE=image/jpeg:https://cosiscifest.org/wp-content/uploads/2026/
 04/andelyn_dna_discovery_zone_EDIT.jpg
CATEGORIES:Be a Scientist
LOCATION:Andelyn Biosciences\, 1180 Arthur E Adams Dr\, Columbus\, Ohio\, 4
 3221\, United States
GEO:40.006216;-83.041536
X-APPLE-STRUCTURED-LOCATION;VALUE=URI;X-ADDRESS=1180 Arthur E Adams Dr\, Co
 lumbus\, Ohio\, 43221\, United States;X-APPLE-RADIUS=100;X-TITLE=Andelyn B
 iosciences:geo:40.006216,-83.041536
END:VEVENT
BEGIN:VTIMEZONE
TZID:America/New_York
X-LIC-LOCATION:America/New_York
BEGIN:DAYLIGHT
DTSTART:20260308T030000
TZOFFSETFROM:-0500
TZOFFSETTO:-0400
TZNAME:EDT
END:DAYLIGHT
END:VTIMEZONE
END:VCALENDAR