BEGIN:VCALENDAR
VERSION:2.0
PRODID:-//wp-events-plugin.com//7.2.3.1//EN
TZID:America/New_York
X-WR-TIMEZONE:America/New_York
BEGIN:VEVENT
UID:130@cosiscifest.org
DTSTART;TZID=America/New_York:20260501T190000
DTEND;TZID=America/New_York:20260501T210000
DTSTAMP:20260409T134442Z
URL:https://cosiscifest.org/events/alley-park-after-dark/
SUMMARY:Alley Park After Dark!
DESCRIPTION:Join our outdoor education staff for an exciting evening on May
  1 from 7 - 9 pm. Activity stations include a night hike\, nocturnal craft
 \, nature center animal visit\, moth station\, and s'mores over the campfi
 re.
ATTACH;FMTTYPE=image/jpeg:https://cosiscifest.org/wp-content/uploads/2024/
 03/park_after_dark.jpeg
CATEGORIES:Outdoor Exploration
LOCATION:Alley Park\, 2805 Old Logan Rd SE\, Lancaster\, Ohio\, 43130\, Uni
 ted States
GEO:39.680655;-82.578764
X-APPLE-STRUCTURED-LOCATION;VALUE=URI;X-ADDRESS=2805 Old Logan Rd SE\, Lanc
 aster\, Ohio\, 43130\, United States;X-APPLE-RADIUS=100;X-TITLE=Alley Park
 :geo:39.680655,-82.578764
END:VEVENT
BEGIN:VTIMEZONE
TZID:America/New_York
X-LIC-LOCATION:America/New_York
BEGIN:DAYLIGHT
DTSTART:20260308T030000
TZOFFSETFROM:-0500
TZOFFSETTO:-0400
TZNAME:EDT
END:DAYLIGHT
END:VTIMEZONE
END:VCALENDAR