BEGIN:VCALENDAR
VERSION:2.0
PRODID:-//wp-events-plugin.com//7.2.3.1//EN
TZID:America/New_York
X-WR-TIMEZONE:America/New_York
BEGIN:VEVENT
UID:143@cosiscifest.org
DTSTART;TZID=America/New_York:20260429T160000
DTEND;TZID=America/New_York:20260429T180000
DTSTAMP:20260316T120022Z
URL:https://cosiscifest.org/events/ai-spy-with-my-little-eye-something-wil
 d/
SUMMARY:AI Spy With My Little Eye Something Wild
DESCRIPTION:Turn the classic “I Spy” game into a surprising window into
  how artificial intelligence learns to recognize nature. Through hands-on 
 activities and live demos\, explore how computers use visual traits and pa
 tterns to sort\, group\, and identify species from images.
ATTACH;FMTTYPE=image/jpeg:https://cosiscifest.org/wp-content/uploads/2026/
 03/AI_spy_with_my_little_eye_something_wild_EDIT.jpg
CATEGORIES:Be a Scientist,Outdoor Exploration
LOCATION:Columbus Metropolitan Library - Whetstone Branch\, 3909 N High St\
 , Columbus\, Ohio\, 43214\, United States
GEO:40.041686;-83.019048
X-APPLE-STRUCTURED-LOCATION;VALUE=URI;X-ADDRESS=3909 N High St\, Columbus\,
  Ohio\, 43214\, United States;X-APPLE-RADIUS=100;X-TITLE=Columbus Metropol
 itan Library - Whetstone Branch:geo:40.041686,-83.019048
END:VEVENT
BEGIN:VTIMEZONE
TZID:America/New_York
X-LIC-LOCATION:America/New_York
BEGIN:DAYLIGHT
DTSTART:20260308T030000
TZOFFSETFROM:-0500
TZOFFSETTO:-0400
TZNAME:EDT
END:DAYLIGHT
END:VTIMEZONE
END:VCALENDAR