BEGIN:VCALENDAR
VERSION:2.0
PRODID:-//wp-events-plugin.com//7.2.3.1//EN
TZID:America/New_York
X-WR-TIMEZONE:America/New_York
BEGIN:VEVENT
UID:163@cosiscifest.org
DTSTART;TZID=America/New_York:20260430T180000
DTEND;TZID=America/New_York:20260430T190000
DTSTAMP:20260319T215722Z
URL:https://cosiscifest.org/events/adventure-at-the-lake-with-brave-wilder
 ness-2026/
SUMMARY:Adventure at the Lake with Brave Wilderness
DESCRIPTION:Explore the off-trail areas of Thoreau lake with the Brave Wild
 erness team! Download iNaturalist before you arrive to help us catalog all
  of the wildlife we find on our adventure. Wear shoes that are ready for s
 ome wet\, muddy fun!
ATTACH;FMTTYPE=image/jpeg:https://cosiscifest.org/wp-content/uploads/2026/
 03/adventure-at-the-lake_brave-wilderness_EDIT-2.jpg
CATEGORIES:BioBlitz
LOCATION:Blendon Woods Metro Park\, 4265 E Dublin Granville Rd\, Columbus\,
  Ohio\, 43230\, United States
GEO:40.079797;-82.884615
X-APPLE-STRUCTURED-LOCATION;VALUE=URI;X-ADDRESS=4265 E Dublin Granville Rd\
 , Columbus\, Ohio\, 43230\, United States;X-APPLE-RADIUS=100;X-TITLE=Blend
 on Woods Metro Park:geo:40.079797,-82.884615
END:VEVENT
BEGIN:VTIMEZONE
TZID:America/New_York
X-LIC-LOCATION:America/New_York
BEGIN:DAYLIGHT
DTSTART:20260308T030000
TZOFFSETFROM:-0500
TZOFFSETTO:-0400
TZNAME:EDT
END:DAYLIGHT
END:VTIMEZONE
END:VCALENDAR